BEGIN:VCALENDAR
VERSION:2.0
PRODID:-//Torsten Leveringhaus - ECPv6.0.11//NONSGML v1.0//EN
CALSCALE:GREGORIAN
METHOD:PUBLISH
X-WR-CALNAME:Torsten Leveringhaus
X-ORIGINAL-URL:https://www.torsten-leveringhaus.de
X-WR-CALDESC:Veranstaltungen für Torsten Leveringhaus
REFRESH-INTERVAL;VALUE=DURATION:PT1H
X-Robots-Tag:noindex
X-PUBLISHED-TTL:PT1H
BEGIN:VTIMEZONE
TZID:Europe/Berlin
BEGIN:DAYLIGHT
TZOFFSETFROM:+0100
TZOFFSETTO:+0200
TZNAME:CEST
DTSTART:20260329T010000
END:DAYLIGHT
BEGIN:STANDARD
TZOFFSETFROM:+0200
TZOFFSETTO:+0100
TZNAME:CET
DTSTART:20261025T010000
END:STANDARD
END:VTIMEZONE
BEGIN:VEVENT
DTSTART;TZID=Europe/Berlin:20260301T140000
DTEND;TZID=Europe/Berlin:20260301T160000
DTSTAMP:20260423T163452
CREATED:20260202T084937Z
LAST-MODIFIED:20260202T084937Z
UID:12378-1772373600-1772380800@www.torsten-leveringhaus.de
SUMMARY:Schenkenäcker - Naherholung oder Gewerbegebiet?
DESCRIPTION:Torsten Leveringhaus nimmt an der öffentlichen Wanderung des Ortsverbands der GRÜNEN Seeheim-Jugenheim teil. Das Naherholungsgebiet Schenkenäcker soll durch ein Gewerbegebiet eingekesselt werden. Die GRÜNEN lehnen ein Gewerbegebiet an dieser Stelle ab und schauen sich den geplanten Standort vor Ort an.
URL:https://www.torsten-leveringhaus.de/event/schenkenaecker-naherholung-oder-gewerbegebiet/
CATEGORIES:Bündnis 90 / Die GRÜNEN - Hessischer Landtag,Gemeindevertretung Seeheim-Jugenheim
ATTACH;FMTTYPE=:
END:VEVENT
BEGIN:VEVENT
DTSTART;TZID=Europe/Berlin:20260320T190000
DTEND;TZID=Europe/Berlin:20260320T220000
DTSTAMP:20260423T163452
CREATED:20260302T073756Z
LAST-MODIFIED:20260302T073815Z
UID:12444-1774033200-1774044000@www.torsten-leveringhaus.de
SUMMARY:Jahreshauptversammlung der Freiwilligen Feuerwehr Seeheim
DESCRIPTION:Torsten Leveringhaus ist es wichtig\, auch als Landtagsabgeordneter\, in Kontakt mit den Bürger*innen seines Wahlkreises zu bleiben und er besucht daher die Jahreshauptversammlung der Freiwilligen Feuerwehr Seeheim.
URL:https://www.torsten-leveringhaus.de/event/jahreshauptversammlung-der-freiwilligen-feuerwehr-seeheim-2/
LOCATION:Feuerwehrstützpunkt Seeheim\, Philipp-März-Straße 30\, Seeheim-Jugenheim\, Hessen\, 64342\, Deutschland
CATEGORIES:Bündnis 90 / Die GRÜNEN - Hessischer Landtag,Gemeindevertretung Seeheim-Jugenheim
ATTACH;FMTTYPE=:
END:VEVENT
BEGIN:VEVENT
DTSTART;TZID=Europe/Berlin:20260328T140000
DTEND;TZID=Europe/Berlin:20260328T180000
DTSTAMP:20260423T163452
CREATED:20260302T082721Z
LAST-MODIFIED:20260302T082803Z
UID:12455-1774706400-1774720800@www.torsten-leveringhaus.de
SUMMARY:Mitgliederversammlung der Kreisjugendfeuerwehr Darmstadt-Dieburg
DESCRIPTION:Torsten Leveringhaus ist es wichtig\, auch als Landtagsabgeordneter\, in Kontakt mit den Bürger*innen seines Wahlkreises zu bleiben und er besucht daher die Mitgliederversammlung der Kreisjugendfeuerwehr Darmstadt-Dieburg im Bürgerhaus Bickenbach.
URL:https://www.torsten-leveringhaus.de/event/mitgliederversammlung-der-kreisjugendfeuerwehr-darmstadt-dieburg/
LOCATION:Bürgerhaus Bickenbach\, Erbsengasse 15\, 64404 Bickenbach
CATEGORIES:Bündnis 90 / Die GRÜNEN - Hessischer Landtag
ATTACH;FMTTYPE=:
END:VEVENT
END:VCALENDAR