BEGIN:VCALENDAR
VERSION:2.0
PRODID:-//Torsten Leveringhaus - ECPv6.0.11//NONSGML v1.0//EN
CALSCALE:GREGORIAN
METHOD:PUBLISH
X-ORIGINAL-URL:https://www.torsten-leveringhaus.de
X-WR-CALDESC:Veranstaltungen für Torsten Leveringhaus
REFRESH-INTERVAL;VALUE=DURATION:PT1H
X-Robots-Tag:noindex
X-PUBLISHED-TTL:PT1H
BEGIN:VTIMEZONE
TZID:Europe/Berlin
BEGIN:DAYLIGHT
TZOFFSETFROM:+0100
TZOFFSETTO:+0200
TZNAME:CEST
DTSTART:20260329T010000
END:DAYLIGHT
BEGIN:STANDARD
TZOFFSETFROM:+0200
TZOFFSETTO:+0100
TZNAME:CET
DTSTART:20261025T010000
END:STANDARD
END:VTIMEZONE
BEGIN:VEVENT
DTSTART;TZID=Europe/Berlin:20260212T140000
DTEND;TZID=Europe/Berlin:20260212T153000
DTSTAMP:20260425T132508
CREATED:20260129T103434Z
LAST-MODIFIED:20260129T103434Z
UID:12376-1770904800-1770910200@www.torsten-leveringhaus.de
SUMMARY:Besuch der Organisator*innen des Weiterstädter Filmfests
DESCRIPTION:Gemeinsam mit Mathias Wagner und Hildegard Förster-Heldmann trifft Torsten Leveringhaus die Organisator*innen des Weiterstädter Filmfests zum Austausch im Rahmen der #MathiasKommtRum – KulturTour.
URL:https://www.torsten-leveringhaus.de/event/besuch-der-organisatorinnen-des-weiterstaedter-filmfests/
CATEGORIES:Bündnis 90 / Die GRÜNEN - Hessischer Landtag
ATTACH;FMTTYPE=:
END:VEVENT
BEGIN:VEVENT
DTSTART;TZID=Europe/Berlin:20260222T100000
DTEND;TZID=Europe/Berlin:20260222T140000
DTSTAMP:20260425T132508
CREATED:20260113T095621Z
LAST-MODIFIED:20260113T095621Z
UID:12369-1771754400-1771768800@www.torsten-leveringhaus.de
SUMMARY:Neujahrsempfang der ALW-Grünen Weiterstadt
DESCRIPTION:Torsten Leveringhaus ist es wichtig\, auch als Landtagsabgeordneter\, in Kontakt mit den Bürger*innen seines Wahlkreises zu bleiben und er besucht daher auf Einladung der ALW-Grünen deren Neujahrsempfang.
URL:https://www.torsten-leveringhaus.de/event/neujahrsempfang-der-alw-gruenen-weiterstadt/
CATEGORIES:Bündnis 90 / Die GRÜNEN - Hessischer Landtag
ATTACH;FMTTYPE=:
END:VEVENT
END:VCALENDAR