BEGIN:VCALENDAR
VERSION:2.0
PRODID:-//Torsten Leveringhaus - ECPv6.0.11//NONSGML v1.0//EN
CALSCALE:GREGORIAN
METHOD:PUBLISH
X-ORIGINAL-URL:https://www.torsten-leveringhaus.de
X-WR-CALDESC:Veranstaltungen für Torsten Leveringhaus
REFRESH-INTERVAL;VALUE=DURATION:PT1H
X-Robots-Tag:noindex
X-PUBLISHED-TTL:PT1H
BEGIN:VTIMEZONE
TZID:Europe/Berlin
BEGIN:DAYLIGHT
TZOFFSETFROM:+0100
TZOFFSETTO:+0200
TZNAME:CEST
DTSTART:20260329T010000
END:DAYLIGHT
BEGIN:STANDARD
TZOFFSETFROM:+0200
TZOFFSETTO:+0100
TZNAME:CET
DTSTART:20261025T010000
END:STANDARD
END:VTIMEZONE
BEGIN:VEVENT
DTSTART;TZID=Europe/Berlin:20260131T190000
DTEND;TZID=Europe/Berlin:20260131T220000
DTSTAMP:20260425T144115
CREATED:20251201T123604Z
LAST-MODIFIED:20251201T123604Z
UID:12319-1769886000-1769896800@www.torsten-leveringhaus.de
SUMMARY:1. Sitzung des Karnevallvereins Weiterstadt
DESCRIPTION:Torsten Leveringhaus nimmt an der 1. Sitzung KV Weiterstadt teil. Es ist ihm wichtig\, auch als Landtagsabgeordneter\, in Kontakt mit den Bürger*innen seines Wahlkreises zu bleiben und er besucht daher gerne regionale Veranstaltungen.
URL:https://www.torsten-leveringhaus.de/event/1-sitzung-des-karnevallvereins-weiterstadt/
CATEGORIES:Bündnis 90 / Die GRÜNEN - Hessischer Landtag
ATTACH;FMTTYPE=:
END:VEVENT
END:VCALENDAR