BEGIN:VCALENDAR
VERSION:2.0
PRODID:-//Torsten Leveringhaus - ECPv6.0.11//NONSGML v1.0//EN
CALSCALE:GREGORIAN
METHOD:PUBLISH
X-WR-CALNAME:Torsten Leveringhaus
X-ORIGINAL-URL:https://www.torsten-leveringhaus.de
X-WR-CALDESC:Veranstaltungen für Torsten Leveringhaus
REFRESH-INTERVAL;VALUE=DURATION:PT1H
X-Robots-Tag:noindex
X-PUBLISHED-TTL:PT1H
BEGIN:VTIMEZONE
TZID:Europe/Berlin
BEGIN:DAYLIGHT
TZOFFSETFROM:+0100
TZOFFSETTO:+0200
TZNAME:CEST
DTSTART:20230326T010000
END:DAYLIGHT
BEGIN:STANDARD
TZOFFSETFROM:+0200
TZOFFSETTO:+0100
TZNAME:CET
DTSTART:20231029T010000
END:STANDARD
BEGIN:DAYLIGHT
TZOFFSETFROM:+0100
TZOFFSETTO:+0200
TZNAME:CEST
DTSTART:20240331T010000
END:DAYLIGHT
BEGIN:STANDARD
TZOFFSETFROM:+0200
TZOFFSETTO:+0100
TZNAME:CET
DTSTART:20241027T010000
END:STANDARD
BEGIN:DAYLIGHT
TZOFFSETFROM:+0100
TZOFFSETTO:+0200
TZNAME:CEST
DTSTART:20250330T010000
END:DAYLIGHT
BEGIN:STANDARD
TZOFFSETFROM:+0200
TZOFFSETTO:+0100
TZNAME:CET
DTSTART:20251026T010000
END:STANDARD
END:VTIMEZONE
BEGIN:VEVENT
DTSTART;TZID=Europe/Berlin:20250312T170000
DTEND;TZID=Europe/Berlin:20250312T190000
DTSTAMP:20260423T144918
CREATED:20250311T082215Z
LAST-MODIFIED:20250311T082242Z
UID:11726-1741798800-1741806000@www.torsten-leveringhaus.de
SUMMARY:Fraktionssitzung Kreistag GRÜNE Darmstadt-Dieburg
DESCRIPTION:Torsten Leveringhaus nimmt als Mitglied der GRÜNEN Kreistagsfraktion Darmstadt-Dieburg und Mitglied des Schul-\, Kultur- und Sportausschuss (SKSA) an den Fraktionssitzungen\, Arbeitskreisen und Ausschusssitzungen teil.
URL:https://www.torsten-leveringhaus.de/event/fraktionssitzung-kreistag-gruene-darmstadt-dieburg-8/
LOCATION:Online-Konferenz
ATTACH;FMTTYPE=:
END:VEVENT
BEGIN:VEVENT
DTSTART;TZID=Europe/Berlin:20250310T170000
DTEND;TZID=Europe/Berlin:20250310T190000
DTSTAMP:20260423T144918
CREATED:20250311T082433Z
LAST-MODIFIED:20250311T082433Z
UID:11728-1741626000-1741633200@www.torsten-leveringhaus.de
SUMMARY:Arbeitskreis zum Schul-\, Kultur- und Sportausschuss (SKSA) Darmstadt-Dieburg
DESCRIPTION:Torsten Leveringhaus nimmt als Mitglied der GRÜNEN Kreistagsfraktion Darmstadt-Dieburg und Mitglied des Schul-\, Kultur- und Sportausschuss (SKSA) an den Fraktionssitzungen\, Arbeitskreisen und Ausschusssitzungen teil.
URL:https://www.torsten-leveringhaus.de/event/arbeitskreis-zum-schul-kultur-und-sportausschuss-sksa-darmstadt-dieburg-3/
LOCATION:Kreisverwaltung Darmstadt-Dieburg\, Jägertorstraße 207\, Darmstadt\, Hessen\, 64289\, Deutschland
ATTACH;FMTTYPE=:
END:VEVENT
BEGIN:VEVENT
DTSTART;TZID=Europe/Berlin:20250217T130000
DTEND;TZID=Europe/Berlin:20250217T170000
DTSTAMP:20260423T144918
CREATED:20250114T090926Z
LAST-MODIFIED:20250114T090926Z
UID:11597-1739797200-1739811600@www.torsten-leveringhaus.de
SUMMARY:Kreistag Darmstadt-Dieburg
DESCRIPTION:Torsten Leveringhaus nimmt als Mitglied der GRÜNEN Kreistagsfraktion Darmstadt-Dieburg und Mitglied des Schul-\, Kultur- und Sportausschuss (SKSA) an den Fraktionssitzungen\, Arbeitskreisen und Ausschusssitzungen teil.
URL:https://www.torsten-leveringhaus.de/event/kreistag-darmstadt-dieburg-4/
LOCATION:Kreisverwaltung Darmstadt-Dieburg\, Jägertorstraße 207\, Darmstadt\, Hessen\, 64289\, Deutschland
ATTACH;FMTTYPE=:
END:VEVENT
BEGIN:VEVENT
DTSTART;TZID=Europe/Berlin:20250119T153000
DTEND;TZID=Europe/Berlin:20250119T180000
DTSTAMP:20260423T144918
CREATED:20250113T093806Z
LAST-MODIFIED:20250113T093827Z
UID:11534-1737300600-1737309600@www.torsten-leveringhaus.de
SUMMARY:Deutsche Philharmonie Merck-Benefizkonzert zum neuen Jahr 2025
DESCRIPTION:Torsten Leveringhaus besucht das am Benefizkonzert zum neuen Jahr 2025 im Kurhaus Wiesbaden.
URL:https://www.torsten-leveringhaus.de/event/deutsche-philharmonie-merck-benefizkonzert-zum-neuen-jahr-2025/
CATEGORIES:Bündnis 90 / Die GRÜNEN - Hessischer Landtag
ATTACH;FMTTYPE=:
END:VEVENT
BEGIN:VEVENT
DTSTART;TZID=Europe/Berlin:20250113T130000
DTEND;TZID=Europe/Berlin:20250113T160000
DTSTAMP:20260423T144918
CREATED:20250113T091123Z
LAST-MODIFIED:20250113T091123Z
UID:11530-1736773200-1736784000@www.torsten-leveringhaus.de
SUMMARY:Sondersitzung Kreistag Darmstadt-Dieburg
DESCRIPTION:Torsten Leveringhaus nimmt als Mitglied der GRÜNEN Kreistagsfraktion Darmstadt-Dieburg an der Sondersitzung des Kreistags teil.
URL:https://www.torsten-leveringhaus.de/event/sondersitzung-kreistag-darmstadt-dieburg/
LOCATION:Kreisverwaltung Darmstadt-Dieburg\, Jägertorstraße 207\, Darmstadt\, Hessen\, 64289\, Deutschland
ATTACH;FMTTYPE=:
END:VEVENT
BEGIN:VEVENT
DTSTART;TZID=Europe/Berlin:20241218T170000
DTEND;TZID=Europe/Berlin:20241218T180000
DTSTAMP:20260423T144918
CREATED:20241101T095223Z
LAST-MODIFIED:20241101T095223Z
UID:11454-1734541200-1734544800@www.torsten-leveringhaus.de
SUMMARY:Fraktionssitzung Kreistag GRÜNE Darmstadt-Dieburg
DESCRIPTION:Torsten Leveringhaus nimmt als Mitglied der GRÜNEN Kreistagsfraktion Darmstadt-Dieburg und Mitglied des Schul-\, Kultur- und Sportausschuss (SKSA) an den Fraktionssitzungen\, Arbeitskreisen und Ausschusssitzungen teil.
URL:https://www.torsten-leveringhaus.de/event/fraktionssitzung-kreistag-gruene-darmstadt-dieburg-7/
LOCATION:Online-Konferenz
ATTACH;FMTTYPE=:
END:VEVENT
BEGIN:VEVENT
DTSTART;TZID=Europe/Berlin:20241209T130000
DTEND;TZID=Europe/Berlin:20241209T170000
DTSTAMP:20260423T144918
CREATED:20241101T093948Z
LAST-MODIFIED:20241101T093948Z
UID:11440-1733749200-1733763600@www.torsten-leveringhaus.de
SUMMARY:Kreistag Darmstadt-Dieburg
DESCRIPTION:Torsten Leveringhaus nimmt als Mitglied der GRÜNEN Kreistagsfraktion Darmstadt-Dieburg und Mitglied des Schul-\, Kultur- und Sportausschuss (SKSA) an den Fraktionssitzungen\, Arbeitskreisen und Ausschusssitzungen teil.
URL:https://www.torsten-leveringhaus.de/event/kreistag-darmstadt-dieburg-3/
LOCATION:Kreisverwaltung Darmstadt-Dieburg\, Jägertorstraße 207\, Darmstadt\, Hessen\, 64289\, Deutschland
ATTACH;FMTTYPE=:
END:VEVENT
BEGIN:VEVENT
DTSTART;TZID=Europe/Berlin:20241204T170000
DTEND;TZID=Europe/Berlin:20241204T180000
DTSTAMP:20260423T144918
CREATED:20241101T093019Z
LAST-MODIFIED:20241101T093019Z
UID:11432-1733331600-1733335200@www.torsten-leveringhaus.de
SUMMARY:Fraktionssitzung Kreistag GRÜNE Darmstadt-Dieburg
DESCRIPTION:Torsten Leveringhaus nimmt als Mitglied der GRÜNEN Kreistagsfraktion Darmstadt-Dieburg und Mitglied des Schul-\, Kultur- und Sportausschuss (SKSA) an den Fraktionssitzungen\, Arbeitskreisen und Ausschusssitzungen teil.
URL:https://www.torsten-leveringhaus.de/event/fraktionssitzung-kreistag-gruene-darmstadt-dieburg-6/
LOCATION:Online-Konferenz
ATTACH;FMTTYPE=:
END:VEVENT
BEGIN:VEVENT
DTSTART;TZID=Europe/Berlin:20241128T150000
DTEND;TZID=Europe/Berlin:20241128T180000
DTSTAMP:20260423T144918
CREATED:20241002T093822Z
LAST-MODIFIED:20241002T093822Z
UID:11396-1732806000-1732816800@www.torsten-leveringhaus.de
SUMMARY:Schul-\, Kultur- und Sportausschuss (SKSA)
DESCRIPTION:Torsten Leveringhaus nimmt als Mitglied der GRÜNEN Kreistagsfraktion Darmstadt-Dieburg und Mitglied des Schul-\, Kultur- und Sportausschuss (SKSA) an den Fraktionssitzungen\, Arbeitskreisen und Ausschusssitzungen teil.
URL:https://www.torsten-leveringhaus.de/event/schul-kultur-und-sportausschuss-sksa-2/
LOCATION:Kreisverwaltung Darmstadt-Dieburg\, Jägertorstraße 207\, Darmstadt\, Hessen\, 64289\, Deutschland
ATTACH;FMTTYPE=:
END:VEVENT
BEGIN:VEVENT
DTSTART;TZID=Europe/Berlin:20241119T190000
DTEND;TZID=Europe/Berlin:20241119T203000
DTSTAMP:20260423T144918
CREATED:20241002T091816Z
LAST-MODIFIED:20241002T091816Z
UID:11384-1732042800-1732048200@www.torsten-leveringhaus.de
SUMMARY:Arbeitskreis zum Schul-\, Kultur- und Sportausschuss (SKSA) Darmstadt-Dieburg
DESCRIPTION:Torsten Leveringhaus nimmt als Mitglied der GRÜNEN Kreistagsfraktion Darmstadt-Dieburg und Mitglied des Schul-\, Kultur- und Sportausschuss (SKSA) an den Fraktionssitzungen\, Arbeitskreisen und Ausschusssitzungen teil.
URL:https://www.torsten-leveringhaus.de/event/arbeitskreis-zum-schul-kultur-und-sportausschuss-sksa-darmstadt-dieburg-2/
LOCATION:Online-Konferenz
ATTACH;FMTTYPE=:
END:VEVENT
BEGIN:VEVENT
DTSTART;TZID=Europe/Berlin:20240925T170000
DTEND;TZID=Europe/Berlin:20240925T180000
DTSTAMP:20260423T144918
CREATED:20240801T083144Z
LAST-MODIFIED:20240801T083144Z
UID:11260-1727283600-1727287200@www.torsten-leveringhaus.de
SUMMARY:Fraktionssitzung Kreistag GRÜNE Darmstadt-Dieburg
DESCRIPTION:Torsten Leveringhaus nimmt als Mitglied der GRÜNEN Kreistagsfraktion Darmstadt-Dieburg und Mitglied des Schul-\, Kultur- und Sportausschuss (SKSA) an den Fraktionssitzungen\, Arbeitskreisen und Ausschusssitzungen teil.
URL:https://www.torsten-leveringhaus.de/event/fraktionssitzung-kreistag-gruene-darmstadt-dieburg-5/
LOCATION:Online-Konferenz
ATTACH;FMTTYPE=:
END:VEVENT
BEGIN:VEVENT
DTSTART;TZID=Europe/Berlin:20240924T143000
DTEND;TZID=Europe/Berlin:20240924T170000
DTSTAMP:20260423T144918
CREATED:20240621T082937Z
LAST-MODIFIED:20240621T082937Z
UID:11122-1727188200-1727197200@www.torsten-leveringhaus.de
SUMMARY:Austausch mit dem RP Darmstadt
DESCRIPTION:Gemeinsam mit seinen Fraktionskolleginnen Nina Eisenhardt\, Hildegard Förster-Heldmann und  Katy Walther trifft sich Torsten Leveringhaus mit dem Regierungspräsidenten des RP Darmstadt Prof. Dr. Jan Hilligardt sowie seinem Regierungsvizepräsidenten Dr. Stefan Fuhrmann zum jährlichen Austausch beim RP Darmstadt.
URL:https://www.torsten-leveringhaus.de/event/austausch-mit-dem-rp-darmstadt/
CATEGORIES:Bündnis 90 / Die GRÜNEN - Hessischer Landtag
ATTACH;FMTTYPE=:
END:VEVENT
BEGIN:VEVENT
DTSTART;TZID=Europe/Berlin:20240923T130000
DTEND;TZID=Europe/Berlin:20240923T140000
DTSTAMP:20260423T144918
CREATED:20240801T082651Z
LAST-MODIFIED:20240801T082651Z
UID:11254-1727096400-1727100000@www.torsten-leveringhaus.de
SUMMARY:Kreistag Darmstadt-Dieburg
DESCRIPTION:Torsten Leveringhaus nimmt als Mitglied der GRÜNEN Kreistagsfraktion Darmstadt-Dieburg und Mitglied des Schul-\, Kultur- und Sportausschuss (SKSA) an den Sitzungen des Kreistages teil.
URL:https://www.torsten-leveringhaus.de/event/kreistag-darmstadt-dieburg-2/
LOCATION:Kreisverwaltung Darmstadt-Dieburg\, Jägertorstraße 207\, Darmstadt\, Hessen\, 64289\, Deutschland
ATTACH;FMTTYPE=:
END:VEVENT
BEGIN:VEVENT
DTSTART;TZID=Europe/Berlin:20240918T170000
DTEND;TZID=Europe/Berlin:20240918T180000
DTSTAMP:20260423T144918
CREATED:20240801T080836Z
LAST-MODIFIED:20240801T080836Z
UID:11244-1726678800-1726682400@www.torsten-leveringhaus.de
SUMMARY:Fraktionssitzung Kreistag GRÜNE Darmstadt-Dieburg
DESCRIPTION:Torsten Leveringhaus nimmt als Mitglied der GRÜNEN Kreistagsfraktion Darmstadt-Dieburg und Mitglied des Schul-\, Kultur- und Sportausschuss (SKSA) an den Fraktionssitzungen\, Arbeitskreisen und Ausschusssitzungen teil.
URL:https://www.torsten-leveringhaus.de/event/fraktionssitzung-kreistag-gruene-darmstadt-dieburg-4/
LOCATION:Online-Konferenz
ATTACH;FMTTYPE=:
END:VEVENT
BEGIN:VEVENT
DTSTART;TZID=Europe/Berlin:20240904T170000
DTEND;TZID=Europe/Berlin:20240904T180000
DTSTAMP:20260423T144918
CREATED:20240801T071003Z
LAST-MODIFIED:20240801T071003Z
UID:11216-1725469200-1725472800@www.torsten-leveringhaus.de
SUMMARY:Fraktionssitzung Kreistag GRÜNE Darmstadt-Dieburg
DESCRIPTION:Torsten Leveringhaus nimmt als Mitglied der GRÜNEN Kreistagsfraktion Darmstadt-Dieburg und Mitglied des Schul-\, Kultur- und Sportausschuss (SKSA) an den Fraktionssitzungen\, Arbeitskreisen und Ausschusssitzungen teil.
URL:https://www.torsten-leveringhaus.de/event/fraktionssitzung-kreistag-gruene-darmstadt-dieburg-3/
LOCATION:Kreisverwaltung Darmstadt-Dieburg\, Jägertorstraße 207\, Darmstadt\, Hessen\, 64289\, Deutschland
ATTACH;FMTTYPE=:
END:VEVENT
BEGIN:VEVENT
DTSTART;TZID=Europe/Berlin:20240903T190000
DTEND;TZID=Europe/Berlin:20240903T200000
DTSTAMP:20260423T144918
CREATED:20240801T065446Z
LAST-MODIFIED:20240801T065446Z
UID:11210-1725390000-1725393600@www.torsten-leveringhaus.de
SUMMARY:Arbeitskreis zum Schul-\, Kultur- und Sportausschuss (SKSA) Darmstadt-Dieburg
DESCRIPTION:Torsten Leveringhaus nimmt als Mitglied der GRÜNEN Kreistagsfraktion Darmstadt-Dieburg und Mitglied des Schul-\, Kultur- und Sportausschuss (SKSA) an den Fraktionssitzungen\, Arbeitskreisen und Ausschusssitzungen teil.
URL:https://www.torsten-leveringhaus.de/event/arbeitskreis-zum-schul-kultur-und-sportausschuss-sksa-darmstadt-dieburg/
LOCATION:Online-Konferenz
ATTACH;FMTTYPE=:
END:VEVENT
BEGIN:VEVENT
DTSTART;TZID=Europe/Berlin:20240814T170000
DTEND;TZID=Europe/Berlin:20240814T180000
DTSTAMP:20260423T144918
CREATED:20240701T071451Z
LAST-MODIFIED:20240701T071451Z
UID:11143-1723654800-1723658400@www.torsten-leveringhaus.de
SUMMARY:Fraktionssitzung Kreistag GRÜNE Darmstadt-Dieburg
DESCRIPTION:Torsten Leveringhaus nimmt als Mitglied der GRÜNEN Kreistagsfraktion Darmstadt-Dieburg und Mitglied des Schul-\, Kultur- und Sportausschuss (SKSA) an den Fraktionssitzungen\, Arbeitskreisen und Ausschusssitzungen teil.
URL:https://www.torsten-leveringhaus.de/event/fraktionssitzung-kreistag-gruene-darmstadt-dieburg-2/
LOCATION:Kreisverwaltung Darmstadt-Dieburg\, Jägertorstraße 207\, Darmstadt\, Hessen\, 64289\, Deutschland
ATTACH;FMTTYPE=:
END:VEVENT
BEGIN:VEVENT
DTSTART;TZID=Europe/Berlin:20240617T130000
DTEND;TZID=Europe/Berlin:20240617T140000
DTSTAMP:20260423T144918
CREATED:20240531T114731Z
LAST-MODIFIED:20240531T114731Z
UID:11025-1718629200-1718632800@www.torsten-leveringhaus.de
SUMMARY:Kreistag Darmstadt-Dieburg
DESCRIPTION:Torsten Leveringhaus nimmt als Mitglied der GRÜNEN Kreistagsfraktion Darmstadt-Dieburg und Mitglied des Schul-\, Kultur- und Sportausschuss (SKSA) an den Fraktionssitzungen\, Arbeitskreisen und Ausschusssitzungen teil.
URL:https://www.torsten-leveringhaus.de/event/kreistag-darmstadt-dieburg/
LOCATION:Kreisverwaltung Darmstadt-Dieburg\, Jägertorstraße 207\, Darmstadt\, Hessen\, 64289\, Deutschland
ATTACH;FMTTYPE=:
END:VEVENT
BEGIN:VEVENT
DTSTART;TZID=Europe/Berlin:20240612T170000
DTEND;TZID=Europe/Berlin:20240612T180000
DTSTAMP:20260423T144918
CREATED:20240524T130731Z
LAST-MODIFIED:20240524T130731Z
UID:11010-1718211600-1718215200@www.torsten-leveringhaus.de
SUMMARY:Fraktionssitzung Kreistag GRÜNE Darmstadt-Dieburg
DESCRIPTION:Torsten Leveringhaus nimmt als Mitglied der GRÜNEN Kreistagsfraktion Darmstadt-Dieburg und Mitglied des Schul-\, Kultur- und Sportausschuss (SKSA) an den Fraktionssitzungen\, Arbeitskreisen und Ausschusssitzungen teil.
URL:https://www.torsten-leveringhaus.de/event/fraktionssitzung-kreistag-gruene-darmstadt-dieburg/
ATTACH;FMTTYPE=:
END:VEVENT
BEGIN:VEVENT
DTSTART;TZID=Europe/Berlin:20240606T160000
DTEND;TZID=Europe/Berlin:20240606T170000
DTSTAMP:20260423T144918
CREATED:20240531T113526Z
LAST-MODIFIED:20240531T113526Z
UID:11018-1717689600-1717693200@www.torsten-leveringhaus.de
SUMMARY:Austausch mit dem Kreisschülerrat
DESCRIPTION:Torsten Leveringhaus nimmt als Mitglied der GRÜNEN Kreistagsfraktion Darmstadt-Dieburg und Mitglied des Schul-\, Kultur- und Sportausschuss (SKSA) am Austausch mit dem Kreisschülerrat teil.
URL:https://www.torsten-leveringhaus.de/event/austausch-mit-dem-kreisschuelerrat/
ATTACH;FMTTYPE=:
END:VEVENT
BEGIN:VEVENT
DTSTART;TZID=Europe/Berlin:20240606T150000
DTEND;TZID=Europe/Berlin:20240606T160000
DTSTAMP:20260423T144918
CREATED:20240531T113331Z
LAST-MODIFIED:20240531T113331Z
UID:11016-1717686000-1717689600@www.torsten-leveringhaus.de
SUMMARY:Schul-\, Kultur- und Sportausschuss (SKSA)
DESCRIPTION:Torsten Leveringhaus nimmt als Mitglied der GRÜNEN Kreistagsfraktion Darmstadt-Dieburg und Mitglied des Schul-\, Kultur- und Sportausschuss (SKSA) an den Fraktionssitzungen\, Arbeitskreisen und Ausschusssitzungen teil.
URL:https://www.torsten-leveringhaus.de/event/schul-kultur-und-sportausschuss-sksa/
ATTACH;FMTTYPE=:
END:VEVENT
BEGIN:VEVENT
DTSTART;TZID=Europe/Berlin:20240528T190000
DTEND;TZID=Europe/Berlin:20240528T200000
DTSTAMP:20260423T144918
CREATED:20240524T102937Z
LAST-MODIFIED:20240524T103912Z
UID:10985-1716922800-1716926400@www.torsten-leveringhaus.de
SUMMARY:Arbeitskreis zum Schul-\, Kultur- und Sportausschuss (SKSA)
DESCRIPTION:Torsten Leveringhaus nimmt als Mitglied der GRÜNEN Kreistagsfraktion Darmstadt-Dieburg und Mitglied des Schul-\, Kultur- und Sportausschuss (SKSA) an den Fraktionssitzungen\, Arbeitskreisen und Ausschusssitzungen teil.
URL:https://www.torsten-leveringhaus.de/event/arbeitskreis-zum-schul-kultur-und-sportausschuss-sksa/
LOCATION:Online-Konferenz
ATTACH;FMTTYPE=:
END:VEVENT
BEGIN:VEVENT
DTSTART;TZID=Europe/Berlin:20240427T190000
DTEND;TZID=Europe/Berlin:20240427T210000
DTSTAMP:20260423T144918
CREATED:20240415T091014Z
LAST-MODIFIED:20240415T091014Z
UID:10825-1714244400-1714251600@www.torsten-leveringhaus.de
SUMMARY:Konzert der Landespreisträger*innen Jugend musiziert
DESCRIPTION:Torsten Leveringhaus besucht auf Einladung des Landesmusikrates das Konzert der Landespreisträger*innen Jugend musiziert in Gießen. Über 300 Kinder und Jugendliche haben zwischen dem 13. und 17. März am Landeswettbewerb Jugend musiziert Hessen teilgenommen und die Landesmusikakademie Hessen mit Musik erfüllt.
URL:https://www.torsten-leveringhaus.de/event/konzert-der-landespreistraegerinnen-jugend-musiziert/
CATEGORIES:Bündnis 90 / Die GRÜNEN - Hessischer Landtag
ATTACH;FMTTYPE=:
END:VEVENT
BEGIN:VEVENT
DTSTART;TZID=Europe/Berlin:20230331T183000
DTEND;TZID=Europe/Berlin:20230331T210000
DTSTAMP:20260423T144918
CREATED:20230306T084756Z
LAST-MODIFIED:20230306T084756Z
UID:9696-1680287400-1680296400@www.torsten-leveringhaus.de
SUMMARY:Gemeinsames Abendessen beim interreligiösen Fastenbrechen
DESCRIPTION:Auf Einladung des Forums für Interkulturellen Dialog nimmt Torsten Leveringhaus am interreligiösen Iftar-Abend in Frankfurt teil.
URL:https://www.torsten-leveringhaus.de/event/gemeinsames-abendessen-beim-interreligioesen-fastenbrechen/
CATEGORIES:Bündnis 90 / Die GRÜNEN - Hessischer Landtag
ATTACH;FMTTYPE=:
END:VEVENT
END:VCALENDAR