BEGIN:VCALENDAR
VERSION:2.0
PRODID:-//Torsten Leveringhaus - ECPv6.0.11//NONSGML v1.0//EN
CALSCALE:GREGORIAN
METHOD:PUBLISH
X-WR-CALNAME:Torsten Leveringhaus
X-ORIGINAL-URL:https://www.torsten-leveringhaus.de
X-WR-CALDESC:Veranstaltungen für Torsten Leveringhaus
REFRESH-INTERVAL;VALUE=DURATION:PT1H
X-Robots-Tag:noindex
X-PUBLISHED-TTL:PT1H
BEGIN:VTIMEZONE
TZID:Europe/Berlin
BEGIN:DAYLIGHT
TZOFFSETFROM:+0100
TZOFFSETTO:+0200
TZNAME:CEST
DTSTART:20250330T010000
END:DAYLIGHT
BEGIN:STANDARD
TZOFFSETFROM:+0200
TZOFFSETTO:+0100
TZNAME:CET
DTSTART:20251026T010000
END:STANDARD
END:VTIMEZONE
BEGIN:VEVENT
DTSTART;TZID=Europe/Berlin:20250703T133000
DTEND;TZID=Europe/Berlin:20250703T150000
DTSTAMP:20260426T061703
CREATED:20250624T132948Z
LAST-MODIFIED:20250624T132948Z
UID:11974-1751549400-1751554800@www.torsten-leveringhaus.de
SUMMARY:Preisverleihung "Hessens beste Dorfbuchhandlung" in Groß-Umstadt
DESCRIPTION:Torsten Leveringhaus nimmt an der Preisverleihung “Hessens beste Dorfbuchhandlung” teil. Der Preis geht dieses Jahr an die Umstädter Bücherkiste in Groß-Umstadt.
URL:https://www.torsten-leveringhaus.de/event/preisverleihung-hessens-beste-dorfbuchhandlung-in-gross-umstadt/
CATEGORIES:Bündnis 90 / Die GRÜNEN - Hessischer Landtag
ATTACH;FMTTYPE=:
END:VEVENT
END:VCALENDAR