BEGIN:VCALENDAR
VERSION:2.0
PRODID:-//Torsten Leveringhaus - ECPv6.0.11//NONSGML v1.0//EN
CALSCALE:GREGORIAN
METHOD:PUBLISH
X-ORIGINAL-URL:https://www.torsten-leveringhaus.de
X-WR-CALDESC:Veranstaltungen für Torsten Leveringhaus
REFRESH-INTERVAL;VALUE=DURATION:PT1H
X-Robots-Tag:noindex
X-PUBLISHED-TTL:PT1H
BEGIN:VTIMEZONE
TZID:Europe/Berlin
BEGIN:DAYLIGHT
TZOFFSETFROM:+0100
TZOFFSETTO:+0200
TZNAME:CEST
DTSTART:20250330T010000
END:DAYLIGHT
BEGIN:STANDARD
TZOFFSETFROM:+0200
TZOFFSETTO:+0100
TZNAME:CET
DTSTART:20251026T010000
END:STANDARD
END:VTIMEZONE
BEGIN:VEVENT
DTSTART;TZID=Europe/Berlin:20250505T110000
DTEND;TZID=Europe/Berlin:20250505T170000
DTSTAMP:20260424T101035
CREATED:20250403T081910Z
LAST-MODIFIED:20250403T082210Z
UID:11768-1746442800-1746464400@www.torsten-leveringhaus.de
SUMMARY:Forum Datenschutz zum Thema „Bürokratieabbau im Datenschutz“
DESCRIPTION:Torsten Leveringhaus nimmt am 27.  Wiesbadener Forum Datenschutz teil. Es greift mit dem Thema Entbürokratisierung ein sehr aktuelles Thema auf und wendet dies auf den Anwendungsbereich des Datenschutzes an. Wir wollen in dem Forum nach Wegen suchen\, wie Datenschutz als Schutz von Grundrechten gewährleistet\, zugleich aber bürokratische Belastungen reduziert und Freiraum für die gemeinwohlförderliche Nutzung von Daten gewonnen werden kann. \n 
URL:https://www.torsten-leveringhaus.de/event/forum-datenschutz-zum-thema-buerokratieabbau-im-datenschutz/
LOCATION:Hessischer Landtag\, Schloßplatz 1-3\, Wiesbaden\, Hessen\, 65183\, Deutschland
CATEGORIES:Bündnis 90 / Die GRÜNEN - Hessischer Landtag
ATTACH;FMTTYPE=:
END:VEVENT
BEGIN:VEVENT
DTSTART;TZID=Europe/Berlin:20250506T103000
DTEND;TZID=Europe/Berlin:20250506T140000
DTSTAMP:20260424T101035
CREATED:20250403T082732Z
LAST-MODIFIED:20250403T082732Z
UID:11776-1746527400-1746540000@www.torsten-leveringhaus.de
SUMMARY:Fraktionssitzung Grüne HLT
DESCRIPTION:Torsten Leveringhaus nimmt an den wöchentlich stattfindenden Fraktionssitzungen von Bündnis 90/DIE GRÜNEN im Hessischen Landtag als Sprecher des Ausschuss für Digitales\, Innovation und Datenschutz und Mitglied des Petitionsausschusses\, des Innenausschusses sowie des Rechtspolitischen Ausschusses teil.
URL:https://www.torsten-leveringhaus.de/event/fraktionssitzung-gruene-hlt-170/
LOCATION:Hessischer Landtag\, Schloßplatz 1-3\, Wiesbaden\, Hessen\, 65183\, Deutschland
CATEGORIES:Bündnis 90 / Die GRÜNEN - Hessischer Landtag
ATTACH;FMTTYPE=:
END:VEVENT
BEGIN:VEVENT
DTSTART;TZID=Europe/Berlin:20250506T143000
DTEND;TZID=Europe/Berlin:20250506T170000
DTSTAMP:20260424T101035
CREATED:20250422T100602Z
LAST-MODIFIED:20250422T100602Z
UID:11850-1746541800-1746550800@www.torsten-leveringhaus.de
SUMMARY:Eröffnung des Forschungsbaus Center for Reliability Analytics (CRA)
DESCRIPTION:Torsten Leveringhaus nimmt an der feierlichen Eröffnung des Forschungsbaus Center for Reliability Analytics (CRA) der TU Darmstadt teil. Mit der Gründung des „Center for Reliability Analytics (CRA)“  werden die wissenschaftlichen Grundlagen geschaffen\, um eine digitale Transformation der Zuverlässigkeitsbewertung im Maschinen- und Anlagenbau weiter zu gestalten sowie deren Überführung in die Anwendung zu sichern.
URL:https://www.torsten-leveringhaus.de/event/eroeffnung-des-forschungsbaus-center-for-reliability-analytics-cra/
CATEGORIES:Bündnis 90 / Die GRÜNEN - Hessischer Landtag
ATTACH;FMTTYPE=:
END:VEVENT
BEGIN:VEVENT
DTSTART;TZID=Europe/Berlin:20250506T153000
DTEND;TZID=Europe/Berlin:20250506T170000
DTSTAMP:20260424T101035
CREATED:20250403T084235Z
LAST-MODIFIED:20250403T084333Z
UID:11784-1746545400-1746550800@www.torsten-leveringhaus.de
SUMMARY:Austausch mit dem BSBD Hessen
DESCRIPTION:Gemeinsam mit Fraktionskolleg*innen nimmt Torsten Leveringhaus am Austausch mit der Gewerkschaft BSBD Hessen teil. Es sollen zentrale Anliegen der Gewerkschaftsmitglieder erörtert werden. Insbesondere wir Themen wie Arbeitsbedingungen im Justizvollzug\, Personalentwicklung sowie sicherheits- und rechtspolitische Herausforderungen \n 
URL:https://www.torsten-leveringhaus.de/event/austausch-mit-dem-bund-der-strafvollzugsbediensteten-hessen/
LOCATION:Hessischer Landtag\, Schloßplatz 1-3\, Wiesbaden\, Hessen\, 65183\, Deutschland
CATEGORIES:Bündnis 90 / Die GRÜNEN - Hessischer Landtag
ATTACH;FMTTYPE=:
END:VEVENT
BEGIN:VEVENT
DTSTART;TZID=Europe/Berlin:20250508T103000
DTEND;TZID=Europe/Berlin:20250508T120000
DTSTAMP:20260424T101035
CREATED:20250404T103816Z
LAST-MODIFIED:20250404T103816Z
UID:11807-1746700200-1746705600@www.torsten-leveringhaus.de
SUMMARY:DDA Ausschuss AK intern
DESCRIPTION:Torsten Leveringhaus nimmt als Abgeordneter von Bündnis 90/DIE GRÜNEN im Hessischen Landtag und Sprecher für Digitales und Datenschutz der GRÜNEN Fraktion an Sitzungen und Arbeitskreisen des Ausschusses für Digitales\, Innovation und Datenschutz teil.
URL:https://www.torsten-leveringhaus.de/event/dda-ausschuss-ak-intern-34/
LOCATION:Hessischer Landtag\, Schloßplatz 1-3\, Wiesbaden\, Hessen\, 65183\, Deutschland
CATEGORIES:Bündnis 90 / Die GRÜNEN - Hessischer Landtag
ATTACH;FMTTYPE=:
END:VEVENT
BEGIN:VEVENT
DTSTART;TZID=Europe/Berlin:20250513T103000
DTEND;TZID=Europe/Berlin:20250513T140000
DTSTAMP:20260424T101035
CREATED:20250403T082830Z
LAST-MODIFIED:20250403T082830Z
UID:11778-1747132200-1747144800@www.torsten-leveringhaus.de
SUMMARY:Fraktionssitzung Grüne HLT
DESCRIPTION:Torsten Leveringhaus nimmt an den wöchentlich stattfindenden Fraktionssitzungen von Bündnis 90/DIE GRÜNEN im Hessischen Landtag als Sprecher des Ausschuss für Digitales\, Innovation und Datenschutz und Mitglied des Petitionsausschusses\, des Innenausschusses sowie des Rechtspolitischen Ausschusses teil.
URL:https://www.torsten-leveringhaus.de/event/fraktionssitzung-gruene-hlt-171/
LOCATION:Hessischer Landtag\, Schloßplatz 1-3\, Wiesbaden\, Hessen\, 65183\, Deutschland
CATEGORIES:Bündnis 90 / Die GRÜNEN - Hessischer Landtag
ATTACH;FMTTYPE=:
END:VEVENT
BEGIN:VEVENT
DTSTART;TZID=Europe/Berlin:20250513T140000
DTEND;TZID=Europe/Berlin:20250513T190000
DTSTAMP:20260424T101035
CREATED:20250404T104427Z
LAST-MODIFIED:20250404T104427Z
UID:11814-1747144800-1747162800@www.torsten-leveringhaus.de
SUMMARY:Plenarsitzung HLT
DESCRIPTION:Torsten Leveringhaus nimmt als Abgeordneter von Bündnis 90/DIE GRÜNEN im Hessischen Landtag an den Plenarsitzungen des Landtags teil. Interessierte können diese als Livestream auf der Seite des Hessischen Landtags verfolgen.
URL:https://www.torsten-leveringhaus.de/event/plenarsitzung-hlt-129/
LOCATION:Hessischer Landtag\, Schloßplatz 1-3\, Wiesbaden\, Hessen\, 65183\, Deutschland
CATEGORIES:Bündnis 90 / Die GRÜNEN - Hessischer Landtag
ATTACH;FMTTYPE=:
END:VEVENT
BEGIN:VEVENT
DTSTART;TZID=Europe/Berlin:20250513T190000
DTEND;TZID=Europe/Berlin:20250513T210000
DTSTAMP:20260424T101035
CREATED:20250404T104859Z
LAST-MODIFIED:20250404T105925Z
UID:11816-1747162800-1747170000@www.torsten-leveringhaus.de
SUMMARY:Parlamentarischer Abend der Techniker Krankenkasse
DESCRIPTION:Torsten Leveringhaus nimmt als Abgeordneter von Bündnis 90/DIE GRÜNEN im Hessischen Landtag am parlamentarischen Abend der Techniker Krankenkasse teil. Es ist der erste parlamentarische Abend nach der Bundestagswahl im Februar. Dadurch gibt es Gesprächsbedarf mit den Abgeordneten\, da der Koalitionsvertrag auf Bundesebene auch Auswirkungen auf die Länder haben wird.
URL:https://www.torsten-leveringhaus.de/event/parlamentarischer-abend/
CATEGORIES:Bündnis 90 / Die GRÜNEN - Hessischer Landtag
ATTACH;FMTTYPE=:
END:VEVENT
BEGIN:VEVENT
DTSTART;TZID=Europe/Berlin:20250514T193000
DTEND;TZID=Europe/Berlin:20250514T213000
DTSTAMP:20260424T101035
CREATED:20250404T105415Z
LAST-MODIFIED:20250404T105415Z
UID:11820-1747251000-1747258200@www.torsten-leveringhaus.de
SUMMARY:VhU-Jahrestreffen Politik-Wirtschaft
DESCRIPTION:Torsten Leveringhaus nimmt als Abgeordneter von Bündnis 90/DIE GRÜNEN im Hessischen Landtag am traditionellen Empfang zwischen Repräsentanten der hessischen Politik und der hessischen Wirtschaft in Wiesbaden teil.
URL:https://www.torsten-leveringhaus.de/event/vhu-jahrestreffen-politik-wirtschaft/
CATEGORIES:Bündnis 90 / Die GRÜNEN - Hessischer Landtag
ATTACH;FMTTYPE=:
END:VEVENT
BEGIN:VEVENT
DTSTART;TZID=Europe/Berlin:20250515T090000
DTEND;TZID=Europe/Berlin:20250515T180000
DTSTAMP:20260424T101035
CREATED:20250404T105546Z
LAST-MODIFIED:20250404T105546Z
UID:11822-1747299600-1747332000@www.torsten-leveringhaus.de
SUMMARY:Plenarsitzung HLT
DESCRIPTION:Torsten Leveringhaus nimmt als Abgeordneter von Bündnis 90/DIE GRÜNEN im Hessischen Landtag an den Plenarsitzungen des Landtags teil. Interessierte können diese als Livestream auf der Seite des Hessischen Landtags verfolgen.
URL:https://www.torsten-leveringhaus.de/event/plenarsitzung-hlt-131/
LOCATION:Hessischer Landtag\, Schloßplatz 1-3\, Wiesbaden\, Hessen\, 65183\, Deutschland
CATEGORIES:Bündnis 90 / Die GRÜNEN - Hessischer Landtag
ATTACH;FMTTYPE=:
END:VEVENT
BEGIN:VEVENT
DTSTART;TZID=Europe/Berlin:20250520T103000
DTEND;TZID=Europe/Berlin:20250520T140000
DTSTAMP:20260424T101035
CREATED:20250403T082934Z
LAST-MODIFIED:20250403T082934Z
UID:11780-1747737000-1747749600@www.torsten-leveringhaus.de
SUMMARY:Fraktionssitzung Grüne HLT
DESCRIPTION:Torsten Leveringhaus nimmt an den wöchentlich stattfindenden Fraktionssitzungen von Bündnis 90/DIE GRÜNEN im Hessischen Landtag als Sprecher des Ausschuss für Digitales\, Innovation und Datenschutz und Mitglied des Petitionsausschusses\, des Innenausschusses sowie des Rechtspolitischen Ausschusses teil.
URL:https://www.torsten-leveringhaus.de/event/fraktionssitzung-gruene-hlt-172/
LOCATION:Hessischer Landtag\, Schloßplatz 1-3\, Wiesbaden\, Hessen\, 65183\, Deutschland
CATEGORIES:Bündnis 90 / Die GRÜNEN - Hessischer Landtag
ATTACH;FMTTYPE=:
END:VEVENT
BEGIN:VEVENT
DTSTART;TZID=Europe/Berlin:20250520T180000
DTEND;TZID=Europe/Berlin:20250520T210000
DTSTAMP:20260424T101035
CREATED:20250404T085456Z
LAST-MODIFIED:20250404T085456Z
UID:11795-1747764000-1747774800@www.torsten-leveringhaus.de
SUMMARY:Neue Wege für Deutschland -  Finanz- und Fördermittel für Wissenschaft\, Wirtschaft und die Herausforderungen von morgen
DESCRIPTION:Torsten Leveringhaus besucht die Veranstaltung des Wirtschaftsrates der CDU Sektion Darmstadt-Dieburg “Neue Wege für Deutschland –\nFinanz- und Fördermittel für Wissenschaft\, Wirtschaft und die Herausforderungen von morgen” mit Prof. Dr. Peter Frankenberg\, Baden-Württembergischer Minister für Wissenschaft\, Forschung und Kunst a.D.\, Vorstandsvorsitzender der Heinrich-Vetter-Stiftung und Vorsitzender der Gesellschafterversammlung der Dieter-Schwarz-Stiftung.
URL:https://www.torsten-leveringhaus.de/event/neue-wege-fuer-deutschland-finanz-und-foerdermittel-fuer-wissenschaft-wirtschaft-und-die-herausforderungen-von-morgen/
CATEGORIES:Bündnis 90 / Die GRÜNEN - Hessischer Landtag
ATTACH;FMTTYPE=:
END:VEVENT
BEGIN:VEVENT
DTSTART;TZID=Europe/Berlin:20250522T180000
DTEND;TZID=Europe/Berlin:20250522T220000
DTSTAMP:20260424T101035
CREATED:20250404T113459Z
LAST-MODIFIED:20250404T113459Z
UID:11835-1747936800-1747951200@www.torsten-leveringhaus.de
SUMMARY:Jahresempfang der Fraktion von Bündnis 90/DIE GRÜNEN im Hessischen Landtag
DESCRIPTION:Torsten Leveringhaus nimmt am Jahresempfang der Fraktion von Bündnis 90/DIE GRÜNEN im Hessischen Landtag in Wiesbaden teil.
URL:https://www.torsten-leveringhaus.de/event/jahresempfang-der-fraktion-von-buendnis-90-die-gruenen-im-hessischen-landtag/
LOCATION:Hessischer Landtag\, Schloßplatz 1-3\, Wiesbaden\, Hessen\, 65183\, Deutschland
CATEGORIES:Bündnis 90 / Die GRÜNEN - Hessischer Landtag
ATTACH;FMTTYPE=:
END:VEVENT
BEGIN:VEVENT
DTSTART;TZID=Europe/Berlin:20250526T090000
DTEND;TZID=Europe/Berlin:20250526T180000
DTSTAMP:20260424T101035
CREATED:20250404T113859Z
LAST-MODIFIED:20250404T113859Z
UID:11837-1748250000-1748282400@www.torsten-leveringhaus.de
SUMMARY:Kongress 'Digitale Städte – Digitale Regionen' 2025
DESCRIPTION:Torsten Leveringhaus nimmt als Abgeordneter von Bündnis 90/DIE GRÜNEN im Hessischen Landtag und Sprecher für Digitales und Datenschutz der GRÜNEN Fraktion an Sitzungen am Kongress ‘Digitale Städte – Digitale Regionen’  \n2025 in Marburg teil.
URL:https://www.torsten-leveringhaus.de/event/kongress-digitale-staedte-digitale-regionen-2025/
CATEGORIES:Bündnis 90 / Die GRÜNEN - Hessischer Landtag
ATTACH;FMTTYPE=:
END:VEVENT
BEGIN:VEVENT
DTSTART;TZID=Europe/Berlin:20250527T103000
DTEND;TZID=Europe/Berlin:20250527T140000
DTSTAMP:20260424T101035
CREATED:20250403T083059Z
LAST-MODIFIED:20250403T083059Z
UID:11782-1748341800-1748354400@www.torsten-leveringhaus.de
SUMMARY:Fraktionssitzung Grüne HLT
DESCRIPTION:Torsten Leveringhaus nimmt an den wöchentlich stattfindenden Fraktionssitzungen von Bündnis 90/DIE GRÜNEN im Hessischen Landtag als Sprecher des Ausschuss für Digitales\, Innovation und Datenschutz und Mitglied des Petitionsausschusses\, des Innenausschusses sowie des Rechtspolitischen Ausschusses teil.
URL:https://www.torsten-leveringhaus.de/event/fraktionssitzung-gruene-hlt-173/
LOCATION:Hessischer Landtag\, Schloßplatz 1-3\, Wiesbaden\, Hessen\, 65183\, Deutschland
CATEGORIES:Bündnis 90 / Die GRÜNEN - Hessischer Landtag
ATTACH;FMTTYPE=:
END:VEVENT
BEGIN:VEVENT
DTSTART;TZID=Europe/Berlin:20250528T133000
DTEND;TZID=Europe/Berlin:20250528T153000
DTSTAMP:20260424T101035
CREATED:20250526T130006Z
LAST-MODIFIED:20250526T130006Z
UID:11932-1748439000-1748446200@www.torsten-leveringhaus.de
SUMMARY:Jubiläumsveranstaltung 30 Jahre Rhein-Main-Verkehrsverbund
DESCRIPTION:Torsten Leveringhaus nimmt auf Einladung des Frankfurter Oberbürgermeisters\, Mike Josef\, an der Jubiläumsveranstaltung zum 30-jährigen Bestehen des Rhein-Main-Verkehrsverbunds im Frankfurter Römer teil.
URL:https://www.torsten-leveringhaus.de/event/jubilaeumsveranstaltung-30-jahre-rhein-main-verkehrsverbund/
CATEGORIES:Bündnis 90 / Die GRÜNEN - Hessischer Landtag
ATTACH;FMTTYPE=:
END:VEVENT
END:VCALENDAR