BEGIN:VCALENDAR
VERSION:2.0
PRODID:-//Torsten Leveringhaus - ECPv6.0.11//NONSGML v1.0//EN
CALSCALE:GREGORIAN
METHOD:PUBLISH
X-ORIGINAL-URL:https://www.torsten-leveringhaus.de
X-WR-CALDESC:Veranstaltungen für Torsten Leveringhaus
REFRESH-INTERVAL;VALUE=DURATION:PT1H
X-Robots-Tag:noindex
X-PUBLISHED-TTL:PT1H
BEGIN:VTIMEZONE
TZID:Europe/Berlin
BEGIN:DAYLIGHT
TZOFFSETFROM:+0100
TZOFFSETTO:+0200
TZNAME:CEST
DTSTART:20250330T010000
END:DAYLIGHT
BEGIN:STANDARD
TZOFFSETFROM:+0200
TZOFFSETTO:+0100
TZNAME:CET
DTSTART:20251026T010000
END:STANDARD
END:VTIMEZONE
BEGIN:VEVENT
DTSTART;TZID=Europe/Berlin:20251212T100000
DTEND;TZID=Europe/Berlin:20251212T120000
DTSTAMP:20260424T112626
CREATED:20251208T072602Z
LAST-MODIFIED:20251208T072602Z
UID:12321-1765533600-1765540800@www.torsten-leveringhaus.de
SUMMARY:Journalismus in einer digitalen Welt
DESCRIPTION:Torsten Leveringhaus nimmt an der Veranstaltungsreihe “Digitale Öffentlichkeit” zum Thema Journalismus teil\, der von der Grünen Bundestagsfraktion angeboten wird.
URL:https://www.torsten-leveringhaus.de/event/journalismus-in-einer-digitalen-welt/
LOCATION:Online-Konferenz
CATEGORIES:Bündnis 90 / Die GRÜNEN - Hessischer Landtag
ATTACH;FMTTYPE=:
END:VEVENT
BEGIN:VEVENT
DTSTART;TZID=Europe/Berlin:20251211T090000
DTEND;TZID=Europe/Berlin:20251211T180000
DTSTAMP:20260424T112626
CREATED:20251103T100806Z
LAST-MODIFIED:20251103T100806Z
UID:12245-1765443600-1765476000@www.torsten-leveringhaus.de
SUMMARY:Plenarsitzung HLT
DESCRIPTION:Torsten Leveringhaus nimmt als Abgeordneter von Bündnis 90/DIE GRÜNEN im Hessischen Landtag an den Plenarsitzungen des Landtags teil. Interessierte können diese als Livestream auf der Seite des Hessischen Landtags verfolgen.
URL:https://www.torsten-leveringhaus.de/event/plenarsitzung-hlt-146/
LOCATION:Hessischer Landtag\, Schloßplatz 1-3\, Wiesbaden\, Hessen\, 65183\, Deutschland
CATEGORIES:Bündnis 90 / Die GRÜNEN - Hessischer Landtag
ATTACH;FMTTYPE=:
END:VEVENT
BEGIN:VEVENT
DTSTART;TZID=Europe/Berlin:20251210T090000
DTEND;TZID=Europe/Berlin:20251210T180000
DTSTAMP:20260424T112626
CREATED:20251103T100703Z
LAST-MODIFIED:20251103T100703Z
UID:12243-1765357200-1765389600@www.torsten-leveringhaus.de
SUMMARY:Plenarsitzung HLT
DESCRIPTION:Torsten Leveringhaus nimmt als Abgeordneter von Bündnis 90/DIE GRÜNEN im Hessischen Landtag an den Plenarsitzungen des Landtags teil. Interessierte können diese als Livestream auf der Seite des Hessischen Landtags verfolgen.
URL:https://www.torsten-leveringhaus.de/event/plenarsitzung-hlt-145/
LOCATION:Hessischer Landtag\, Schloßplatz 1-3\, Wiesbaden\, Hessen\, 65183\, Deutschland
CATEGORIES:Bündnis 90 / Die GRÜNEN - Hessischer Landtag
ATTACH;FMTTYPE=:
END:VEVENT
BEGIN:VEVENT
DTSTART;TZID=Europe/Berlin:20251209T140000
DTEND;TZID=Europe/Berlin:20251209T170000
DTSTAMP:20260424T112626
CREATED:20251103T100556Z
LAST-MODIFIED:20251103T100556Z
UID:12241-1765288800-1765299600@www.torsten-leveringhaus.de
SUMMARY:Plenarsitzung HLT
DESCRIPTION:Torsten Leveringhaus nimmt als Abgeordneter von Bündnis 90/DIE GRÜNEN im Hessischen Landtag an den Plenarsitzungen des Landtags teil. Interessierte können diese als Livestream auf der Seite des Hessischen Landtags verfolgen.
URL:https://www.torsten-leveringhaus.de/event/plenarsitzung-hlt-144/
LOCATION:Hessischer Landtag\, Schloßplatz 1-3\, Wiesbaden\, Hessen\, 65183\, Deutschland
CATEGORIES:Bündnis 90 / Die GRÜNEN - Hessischer Landtag
ATTACH;FMTTYPE=:
END:VEVENT
BEGIN:VEVENT
DTSTART;TZID=Europe/Berlin:20251209T103000
DTEND;TZID=Europe/Berlin:20251209T140000
DTSTAMP:20260424T112626
CREATED:20251103T084420Z
LAST-MODIFIED:20251103T084420Z
UID:12220-1765276200-1765288800@www.torsten-leveringhaus.de
SUMMARY:Fraktionssitzung Grüne HLT
DESCRIPTION:Torsten Leveringhaus nimmt an den wöchentlich stattfindenden Fraktionssitzungen von Bündnis 90/DIE GRÜNEN im Hessischen Landtag als Sprecher des Ausschuss für Digitales\, Innovation und Datenschutz und Mitglied des Petitionsausschusses\, des Innenausschusses sowie des Rechtspolitischen Ausschusses teil.
URL:https://www.torsten-leveringhaus.de/event/fraktionssitzung-gruene-hlt-191/
LOCATION:Hessischer Landtag\, Schloßplatz 1-3\, Wiesbaden\, Hessen\, 65183\, Deutschland
CATEGORIES:Bündnis 90 / Die GRÜNEN - Hessischer Landtag
ATTACH;FMTTYPE=:
END:VEVENT
BEGIN:VEVENT
DTSTART;TZID=Europe/Berlin:20251204T140000
DTEND;TZID=Europe/Berlin:20251204T180000
DTSTAMP:20260424T112626
CREATED:20251103T095945Z
LAST-MODIFIED:20251103T095945Z
UID:12236-1764856800-1764871200@www.torsten-leveringhaus.de
SUMMARY:DDA Ausschuss
DESCRIPTION:Torsten Leveringhaus nimmt als Abgeordneter von Bündnis 90/DIE GRÜNEN im Hessischen Landtag und Sprecher für Digitales und Datenschutz der GRÜNEN Fraktion an Sitzungen und Arbeitskreisen des Ausschusses für Digitales\, Innovation und Datenschutz teil.
URL:https://www.torsten-leveringhaus.de/event/dda-ausschuss-35/
LOCATION:Hessischer Landtag\, Schloßplatz 1-3\, Wiesbaden\, Hessen\, 65183\, Deutschland
CATEGORIES:Bündnis 90 / Die GRÜNEN - Hessischer Landtag
ATTACH;FMTTYPE=:
END:VEVENT
BEGIN:VEVENT
DTSTART;TZID=Europe/Berlin:20251204T103000
DTEND;TZID=Europe/Berlin:20251204T120000
DTSTAMP:20260424T112626
CREATED:20251103T095845Z
LAST-MODIFIED:20251103T095845Z
UID:12234-1764844200-1764849600@www.torsten-leveringhaus.de
SUMMARY:DDA Ausschuss AK intern
DESCRIPTION:Torsten Leveringhaus nimmt als Abgeordneter von Bündnis 90/DIE GRÜNEN im Hessischen Landtag und Sprecher für Digitales und Datenschutz der GRÜNEN Fraktion an Sitzungen und Arbeitskreisen des Ausschusses für Digitales\, Innovation und Datenschutz teil.
URL:https://www.torsten-leveringhaus.de/event/dda-ausschuss-ak-intern-39/
LOCATION:Hessischer Landtag\, Schloßplatz 1-3\, Wiesbaden\, Hessen\, 65183\, Deutschland
CATEGORIES:Bündnis 90 / Die GRÜNEN - Hessischer Landtag
ATTACH;FMTTYPE=:
END:VEVENT
BEGIN:VEVENT
DTSTART;TZID=Europe/Berlin:20251202T103000
DTEND;TZID=Europe/Berlin:20251202T140000
DTSTAMP:20260424T112626
CREATED:20251103T084301Z
LAST-MODIFIED:20251103T084301Z
UID:12218-1764671400-1764684000@www.torsten-leveringhaus.de
SUMMARY:Fraktionssitzung Grüne HLT
DESCRIPTION:Torsten Leveringhaus nimmt an den wöchentlich stattfindenden Fraktionssitzungen von Bündnis 90/DIE GRÜNEN im Hessischen Landtag als Sprecher des Ausschuss für Digitales\, Innovation und Datenschutz und Mitglied des Petitionsausschusses\, des Innenausschusses sowie des Rechtspolitischen Ausschusses teil.
URL:https://www.torsten-leveringhaus.de/event/fraktionssitzung-gruene-hlt-190/
LOCATION:Hessischer Landtag\, Schloßplatz 1-3\, Wiesbaden\, Hessen\, 65183\, Deutschland
CATEGORIES:Bündnis 90 / Die GRÜNEN - Hessischer Landtag
ATTACH;FMTTYPE=:
END:VEVENT
BEGIN:VEVENT
DTSTART;VALUE=DATE:20251202
DTEND;VALUE=DATE:20251203
DTSTAMP:20260424T112626
CREATED:20251103T084915Z
LAST-MODIFIED:20251103T085633Z
UID:12224-1764633600-1764719999@www.torsten-leveringhaus.de
SUMMARY:Schüler*innengruppe der Tannenbergschule zu Besuch im Landtag
DESCRIPTION:Torsten Leveringhaus empfängt als Abgeordneter von Bündnis 90/DIE GRÜNEN im Hessischen Landtag eine Schüler*innengruppe der 4. Klassen der Tannenbergschule aus Seeheim-Jugenheim und steht den Besucher*innen Rede und Antwort.
URL:https://www.torsten-leveringhaus.de/event/schulklassen-der-tannenbergschule-zu-besuch-im-landtag/
LOCATION:Hessischer Landtag\, Schloßplatz 1-3\, Wiesbaden\, Hessen\, 65183\, Deutschland
CATEGORIES:Bündnis 90 / Die GRÜNEN - Hessischer Landtag
ATTACH;FMTTYPE=:
END:VEVENT
BEGIN:VEVENT
DTSTART;TZID=Europe/Berlin:20251126T123000
DTEND;TZID=Europe/Berlin:20251126T133000
DTSTAMP:20260424T112626
CREATED:20251001T131636Z
LAST-MODIFIED:20251001T131636Z
UID:12197-1764160200-1764163800@www.torsten-leveringhaus.de
SUMMARY:Schüler*innengruppe aus Fulda zu Besuch im Landtag
DESCRIPTION:Torsten Leveringhaus empfängt als Abgeordneter von Bündnis 90/DIE GRÜNEN im Hessischen Landtag eine Schüler*innengruppe der Brüder-Grimm-Schule Fulda und  steht den Besucher*innen Rede und Antwort
URL:https://www.torsten-leveringhaus.de/event/schuelerinnengruppe-aus-fulda-zu-besuch-im-landtag/
LOCATION:Hessischer Landtag\, Schloßplatz 1-3\, Wiesbaden\, Hessen\, 65183\, Deutschland
CATEGORIES:Bündnis 90 / Die GRÜNEN - Hessischer Landtag
ATTACH;FMTTYPE=:
END:VEVENT
BEGIN:VEVENT
DTSTART;TZID=Europe/Berlin:20251125T103000
DTEND;TZID=Europe/Berlin:20251125T140000
DTSTAMP:20260424T112626
CREATED:20251001T101130Z
LAST-MODIFIED:20251001T101130Z
UID:12163-1764066600-1764079200@www.torsten-leveringhaus.de
SUMMARY:Fraktionssitzung Grüne HLT
DESCRIPTION:Torsten Leveringhaus nimmt an den wöchentlich stattfindenden Fraktionssitzungen von Bündnis 90/DIE GRÜNEN im Hessischen Landtag als Sprecher des Ausschuss für Digitales\, Innovation und Datenschutz und Mitglied des Petitionsausschusses\, des Innenausschusses sowie des Rechtspolitischen Ausschusses teil.
URL:https://www.torsten-leveringhaus.de/event/fraktionssitzung-gruene-hlt-189/
LOCATION:Hessischer Landtag\, Schloßplatz 1-3\, Wiesbaden\, Hessen\, 65183\, Deutschland
CATEGORIES:Bündnis 90 / Die GRÜNEN - Hessischer Landtag
ATTACH;FMTTYPE=:
END:VEVENT
BEGIN:VEVENT
DTSTART;TZID=Europe/Berlin:20251118T103000
DTEND;TZID=Europe/Berlin:20251118T140000
DTSTAMP:20260424T112626
CREATED:20251001T101027Z
LAST-MODIFIED:20251001T101027Z
UID:12161-1763461800-1763474400@www.torsten-leveringhaus.de
SUMMARY:Fraktionssitzung Grüne HLT
DESCRIPTION:Torsten Leveringhaus nimmt an den wöchentlich stattfindenden Fraktionssitzungen von Bündnis 90/DIE GRÜNEN im Hessischen Landtag als Sprecher des Ausschuss für Digitales\, Innovation und Datenschutz und Mitglied des Petitionsausschusses\, des Innenausschusses sowie des Rechtspolitischen Ausschusses teil.
URL:https://www.torsten-leveringhaus.de/event/fraktionssitzung-gruene-hlt-188/
LOCATION:Hessen
CATEGORIES:Bündnis 90 / Die GRÜNEN - Hessischer Landtag
ATTACH;FMTTYPE=:
END:VEVENT
BEGIN:VEVENT
DTSTART;TZID=Europe/Berlin:20251113T090000
DTEND;TZID=Europe/Berlin:20251113T190000
DTSTAMP:20260424T112626
CREATED:20251001T104429Z
LAST-MODIFIED:20251001T104429Z
UID:12183-1763024400-1763060400@www.torsten-leveringhaus.de
SUMMARY:Plenarsitzung HLT
DESCRIPTION:Torsten Leveringhaus nimmt als Abgeordneter von Bündnis 90/DIE GRÜNEN im Hessischen Landtag an den Plenarsitzungen des Landtags teil. Interessierte können diese als Livestream auf der Seite des Hessischen Landtags verfolgen.
URL:https://www.torsten-leveringhaus.de/event/plenarsitzung-hlt-143/
LOCATION:Hessischer Landtag\, Schloßplatz 1-3\, Wiesbaden\, Hessen\, 65183\, Deutschland
CATEGORIES:Bündnis 90 / Die GRÜNEN - Hessischer Landtag
ATTACH;FMTTYPE=:
END:VEVENT
BEGIN:VEVENT
DTSTART;TZID=Europe/Berlin:20251112T090000
DTEND;TZID=Europe/Berlin:20251112T190000
DTSTAMP:20260424T112626
CREATED:20251001T104125Z
LAST-MODIFIED:20251001T104125Z
UID:12181-1762938000-1762974000@www.torsten-leveringhaus.de
SUMMARY:Plenarsitzung HLT
DESCRIPTION:Torsten Leveringhaus nimmt als Abgeordneter von Bündnis 90/DIE GRÜNEN im Hessischen Landtag an den Plenarsitzungen des Landtags teil. Interessierte können diese als Livestream auf der Seite des Hessischen Landtags verfolgen.
URL:https://www.torsten-leveringhaus.de/event/plenarsitzung-hlt-142/
LOCATION:Hessischer Landtag\, Schloßplatz 1-3\, Wiesbaden\, Hessen\, 65183\, Deutschland
CATEGORIES:Bündnis 90 / Die GRÜNEN - Hessischer Landtag
ATTACH;FMTTYPE=:
END:VEVENT
BEGIN:VEVENT
DTSTART;TZID=Europe/Berlin:20251111T140000
DTEND;TZID=Europe/Berlin:20251111T190000
DTSTAMP:20260424T112626
CREATED:20251001T103856Z
LAST-MODIFIED:20251001T104245Z
UID:12179-1762869600-1762887600@www.torsten-leveringhaus.de
SUMMARY:Plenarsitzung HLT
DESCRIPTION:Torsten Leveringhaus nimmt als Abgeordneter von Bündnis 90/DIE GRÜNEN im Hessischen Landtag an den Plenarsitzungen des Landtags teil. Interessierte können diese als Livestream auf der Seite des Hessischen Landtags verfolgen.
URL:https://www.torsten-leveringhaus.de/event/plenarsitzung-hlt-141/
LOCATION:Hessischer Landtag\, Schloßplatz 1-3\, Wiesbaden\, Hessen\, 65183\, Deutschland
CATEGORIES:Bündnis 90 / Die GRÜNEN - Hessischer Landtag
ATTACH;FMTTYPE=:
END:VEVENT
BEGIN:VEVENT
DTSTART;TZID=Europe/Berlin:20251111T103000
DTEND;TZID=Europe/Berlin:20251111T140000
DTSTAMP:20260424T112626
CREATED:20251001T100853Z
LAST-MODIFIED:20251001T100853Z
UID:12159-1762857000-1762869600@www.torsten-leveringhaus.de
SUMMARY:Fraktionssitzung Grüne HLT
DESCRIPTION:Torsten Leveringhaus nimmt an den wöchentlich stattfindenden Fraktionssitzungen von Bündnis 90/DIE GRÜNEN im Hessischen Landtag als Sprecher des Ausschuss für Digitales\, Innovation und Datenschutz und Mitglied des Petitionsausschusses\, des Innenausschusses sowie des Rechtspolitischen Ausschusses teil.
URL:https://www.torsten-leveringhaus.de/event/fraktionssitzung-gruene-hlt-187/
LOCATION:Hessischer Landtag\, Schloßplatz 1-3\, Wiesbaden\, Hessen\, 65183\, Deutschland
CATEGORIES:Bündnis 90 / Die GRÜNEN - Hessischer Landtag
ATTACH;FMTTYPE=:
END:VEVENT
BEGIN:VEVENT
DTSTART;TZID=Europe/Berlin:20251107T100000
DTEND;TZID=Europe/Berlin:20251107T120000
DTSTAMP:20260424T112626
CREATED:20251001T102432Z
LAST-MODIFIED:20251001T102432Z
UID:12173-1762509600-1762516800@www.torsten-leveringhaus.de
SUMMARY:IT Arbeitsgemeinschaft
DESCRIPTION:Torsten Leveringhaus nimmt als Abgeordneter von Bündnis 90/DIE GRÜNEN im Hessischen Landtag und Sprecher für Digitales und Datenschutz der GRÜNEN Fraktion an Sitzungen der IT AG des Landtages teil.
URL:https://www.torsten-leveringhaus.de/event/it-arbeitsgemeinschaft/
LOCATION:Online-Konferenz
CATEGORIES:Bündnis 90 / Die GRÜNEN - Hessischer Landtag
ATTACH;FMTTYPE=:
END:VEVENT
BEGIN:VEVENT
DTSTART;TZID=Europe/Berlin:20251106T140000
DTEND;TZID=Europe/Berlin:20251106T170000
DTSTAMP:20260424T112626
CREATED:20251001T101706Z
LAST-MODIFIED:20251001T101706Z
UID:12169-1762437600-1762448400@www.torsten-leveringhaus.de
SUMMARY:DDA Ausschuss
DESCRIPTION:Torsten Leveringhaus nimmt als Abgeordneter von Bündnis 90/DIE GRÜNEN im Hessischen Landtag und Sprecher für Digitales und Datenschutz der GRÜNEN Fraktion an Sitzungen und Arbeitskreisen des Ausschusses für Digitales\, Innovation und Datenschutz teil.
URL:https://www.torsten-leveringhaus.de/event/dda-ausschuss-34/
LOCATION:Hessischer Landtag\, Schloßplatz 1-3\, Wiesbaden\, Hessen\, 65183\, Deutschland
CATEGORIES:Bündnis 90 / Die GRÜNEN - Hessischer Landtag
ATTACH;FMTTYPE=:
END:VEVENT
BEGIN:VEVENT
DTSTART;TZID=Europe/Berlin:20251106T103000
DTEND;TZID=Europe/Berlin:20251106T120000
DTSTAMP:20260424T112626
CREATED:20251001T101546Z
LAST-MODIFIED:20251001T101546Z
UID:12167-1762425000-1762430400@www.torsten-leveringhaus.de
SUMMARY:DDA Ausschuss AK intern
DESCRIPTION:Torsten Leveringhaus nimmt als Abgeordneter von Bündnis 90/DIE GRÜNEN im Hessischen Landtag und Sprecher für Digitales und Datenschutz der GRÜNEN Fraktion an Sitzungen und Arbeitskreisen des Ausschusses für Digitales\, Innovation und Datenschutz teil.
URL:https://www.torsten-leveringhaus.de/event/dda-ausschuss-ak-intern-38/
LOCATION:Hessischer Landtag\, Schloßplatz 1-3\, Wiesbaden\, Hessen\, 65183\, Deutschland
CATEGORIES:Bündnis 90 / Die GRÜNEN - Hessischer Landtag
ATTACH;FMTTYPE=:
END:VEVENT
BEGIN:VEVENT
DTSTART;TZID=Europe/Berlin:20251104T103000
DTEND;TZID=Europe/Berlin:20251104T140000
DTSTAMP:20260424T112626
CREATED:20251001T100636Z
LAST-MODIFIED:20251001T100636Z
UID:12157-1762252200-1762264800@www.torsten-leveringhaus.de
SUMMARY:Fraktionssitzung Grüne HLT
DESCRIPTION:Torsten Leveringhaus nimmt an den wöchentlich stattfindenden Fraktionssitzungen von Bündnis 90/DIE GRÜNEN im Hessischen Landtag als Sprecher des Ausschuss für Digitales\, Innovation und Datenschutz und Mitglied des Petitionsausschusses\, des Innenausschusses sowie des Rechtspolitischen Ausschusses teil.
URL:https://www.torsten-leveringhaus.de/event/fraktionssitzung-gruene-hlt-186/
LOCATION:Hessischer Landtag\, Schloßplatz 1-3\, Wiesbaden\, Hessen\, 65183\, Deutschland
CATEGORIES:Bündnis 90 / Die GRÜNEN - Hessischer Landtag
ATTACH;FMTTYPE=:
END:VEVENT
BEGIN:VEVENT
DTSTART;VALUE=DATE:20251027
DTEND;VALUE=DATE:20251029
DTSTAMP:20260424T112626
CREATED:20250901T092507Z
LAST-MODIFIED:20250901T092507Z
UID:12117-1761523200-1761695999@www.torsten-leveringhaus.de
SUMMARY:Fraktionsklausur Grüne HLT
DESCRIPTION:Torsten Leveringhaus nimmt an der zweitägigen Fraktionsklausur von Bündnis 90/DIE GRÜNEN im Hessischen Landtag als Sprecher des Ausschuss für Digitales\, Innovation und Datenschutz und Mitglied des Petitionsausschusses\, des Innenausschusses sowie des Rechtspolitischen Ausschusses teil.
URL:https://www.torsten-leveringhaus.de/event/fraktionsklausur-gruene-hlt-2/
LOCATION:Hessen
CATEGORIES:Bündnis 90 / Die GRÜNEN - Hessischer Landtag
ATTACH;FMTTYPE=:
END:VEVENT
BEGIN:VEVENT
DTSTART;VALUE=DATE:20251021
DTEND;VALUE=DATE:20251025
DTSTAMP:20260424T112626
CREATED:20250901T092155Z
LAST-MODIFIED:20250901T092326Z
UID:12114-1761004800-1761350399@www.torsten-leveringhaus.de
SUMMARY:Reise des Parlamentarischen Freundeskreises nach Südtirol
DESCRIPTION:Torsten Leveringhaus nimmt an der Reise des Parlamentarischen Freundeskreises Südtirol teil.
URL:https://www.torsten-leveringhaus.de/event/reise-nach-suedtirol/
LOCATION:Hessen
CATEGORIES:Bündnis 90 / Die GRÜNEN - Hessischer Landtag
ATTACH;FMTTYPE=:
END:VEVENT
BEGIN:VEVENT
DTSTART;TZID=Europe/Berlin:20251020T110000
DTEND;TZID=Europe/Berlin:20251020T130000
DTSTAMP:20260424T112626
CREATED:20250915T071942Z
LAST-MODIFIED:20250915T071942Z
UID:12138-1760958000-1760965200@www.torsten-leveringhaus.de
SUMMARY:VhU-Verkehrsforum "Luftverkehrsstandort Hessen"
DESCRIPTION:Torsten Leveringhaus nimmt am VhU-Verkehrsforum im Fraport Besucherzentrum teil. Sprecher sind: \n\nDr. Stefan Schulte\, Fraport AG\, Vorsitzender des Vorstands\nPeter Gerber\, Condor Flugdienst GmbH\, Vorsitzender der Geschäftsführung\nDr. Michael Niggemann\, Deutsche Lufthansa AG\, Mitglied des Vorstands\nTarek Al-Wazir MdB (Bündnis 90/Die Grünen)\, Vorsitzender des Verkehrsausschusses im Deutschen Bundestag\nTobias Eckert MdL (SPD)\, Vorsitzender der SPD-Fraktion im Hessischen Landtag\nDr. Stefan Naas MdL (FDP)\, Co-Vorsitzender der FDP-Fraktion im Hessischen Landtag\nBjörn Simon MdB (CDU)\, Mitglied im Verkehrsausschuss des Deutschen Bundestages und verkehrspolitischer Sprecher der CDU/CSU Bundestagsfraktion\nSven Simon MdEP (CDU)\, Mitglied des Europäischen Parlaments\nModeration: Michael Immel\, ARD-Luftfahrtexperte Hessischer Rundfunk\n\n 
URL:https://www.torsten-leveringhaus.de/event/vhu-verkehrsforum-luftverkehrsstandort-hessen/
LOCATION:Hessen
CATEGORIES:Bündnis 90 / Die GRÜNEN - Hessischer Landtag
ATTACH;FMTTYPE=:
END:VEVENT
BEGIN:VEVENT
DTSTART;TZID=Europe/Berlin:20251002T090000
DTEND;TZID=Europe/Berlin:20251002T180000
DTSTAMP:20260424T112626
CREATED:20250818T112700Z
LAST-MODIFIED:20250818T112700Z
UID:12098-1759395600-1759428000@www.torsten-leveringhaus.de
SUMMARY:Plenarsitzung HLT
DESCRIPTION:Torsten Leveringhaus nimmt als Abgeordneter von Bündnis 90/DIE GRÜNEN im Hessischen Landtag an den Plenarsitzungen des Landtags teil. Interessierte können diese als Livestream auf der Seite des Hessischen Landtags verfolgen.
URL:https://www.torsten-leveringhaus.de/event/plenarsitzung-hlt-140/
LOCATION:Hessischer Landtag\, Schloßplatz 1-3\, Wiesbaden\, Hessen\, 65183\, Deutschland
CATEGORIES:Bündnis 90 / Die GRÜNEN - Hessischer Landtag
ATTACH;FMTTYPE=:
END:VEVENT
BEGIN:VEVENT
DTSTART;TZID=Europe/Berlin:20251001T090000
DTEND;TZID=Europe/Berlin:20251001T180000
DTSTAMP:20260424T112626
CREATED:20250818T112611Z
LAST-MODIFIED:20250818T112611Z
UID:12096-1759309200-1759341600@www.torsten-leveringhaus.de
SUMMARY:Plenarsitzung HLT
DESCRIPTION:Torsten Leveringhaus nimmt als Abgeordneter von Bündnis 90/DIE GRÜNEN im Hessischen Landtag an den Plenarsitzungen des Landtags teil. Interessierte können diese als Livestream auf der Seite des Hessischen Landtags verfolgen.
URL:https://www.torsten-leveringhaus.de/event/plenarsitzung-hlt-139/
LOCATION:Hessischer Landtag\, Schloßplatz 1-3\, Wiesbaden\, Hessen\, 65183\, Deutschland
CATEGORIES:Bündnis 90 / Die GRÜNEN - Hessischer Landtag
ATTACH;FMTTYPE=:
END:VEVENT
BEGIN:VEVENT
DTSTART;TZID=Europe/Berlin:20250930T193000
DTEND;TZID=Europe/Berlin:20250930T220000
DTSTAMP:20260424T112626
CREATED:20250818T112339Z
LAST-MODIFIED:20250818T112351Z
UID:12094-1759260600-1759269600@www.torsten-leveringhaus.de
SUMMARY:Parlamentarischer Abend der VDE Landesvertretung Hessen
DESCRIPTION:Torsten Leveringhaus nimmt am Parlamentarischen Abend der VDE Landesvertretung Hessen zum Thema „Digitalisierung der Energienetze“ teil. Die Digitalisierung der Energienetze benennt die Umstellung des Energiesystems auf intelligente\, vernetzte Technologien\, um die Effizienz zu steigern und die Nutzung erneuerbarer Energien zu optimieren. Neben den technischen und ordnungspolitischen Fragestellungen soll es an dem Abend auch um das Thema Nachwuchskräfte gehen. \n 
URL:https://www.torsten-leveringhaus.de/event/parlamentarischer-abend-der-vde-landesvertretung-hessen/
LOCATION:Hessischer Landtag\, Schloßplatz 1-3\, Wiesbaden\, Hessen\, 65183\, Deutschland
CATEGORIES:Bündnis 90 / Die GRÜNEN - Hessischer Landtag
ATTACH;FMTTYPE=:
END:VEVENT
BEGIN:VEVENT
DTSTART;TZID=Europe/Berlin:20250930T140000
DTEND;TZID=Europe/Berlin:20250930T180000
DTSTAMP:20260424T112626
CREATED:20250818T095711Z
LAST-MODIFIED:20250818T095743Z
UID:12051-1759240800-1759255200@www.torsten-leveringhaus.de
SUMMARY:Plenarsitzung HLT
DESCRIPTION:Torsten Leveringhaus nimmt als Abgeordneter von Bündnis 90/DIE GRÜNEN im Hessischen Landtag an den Plenarsitzungen des Landtags teil. Interessierte können diese als Livestream auf der Seite des Hessischen Landtags verfolgen.
URL:https://www.torsten-leveringhaus.de/event/plenarsitzung-hlt-138/
LOCATION:Hessischer Landtag\, Schloßplatz 1-3\, Wiesbaden\, Hessen\, 65183\, Deutschland
CATEGORIES:Bündnis 90 / Die GRÜNEN - Hessischer Landtag
ATTACH;FMTTYPE=:
END:VEVENT
BEGIN:VEVENT
DTSTART;TZID=Europe/Berlin:20250930T103000
DTEND;TZID=Europe/Berlin:20250930T140000
DTSTAMP:20260424T112626
CREATED:20250815T104202Z
LAST-MODIFIED:20250815T104202Z
UID:12029-1759228200-1759240800@www.torsten-leveringhaus.de
SUMMARY:Fraktionssitzung Grüne HLT
DESCRIPTION:Torsten Leveringhaus nimmt an den wöchentlich stattfindenden Fraktionssitzungen von Bündnis 90/DIE GRÜNEN im Hessischen Landtag als Sprecher des Ausschuss für Digitales\, Innovation und Datenschutz und Mitglied des Petitionsausschusses\, des Innenausschusses sowie des Rechtspolitischen Ausschusses teil.
URL:https://www.torsten-leveringhaus.de/event/fraktionssitzung-gruene-hlt-185/
LOCATION:Hessischer Landtag\, Schloßplatz 1-3\, Wiesbaden\, Hessen\, 65183\, Deutschland
CATEGORIES:Bündnis 90 / Die GRÜNEN - Hessischer Landtag
ATTACH;FMTTYPE=:
END:VEVENT
BEGIN:VEVENT
DTSTART;TZID=Europe/Berlin:20250929T160000
DTEND;TZID=Europe/Berlin:20250929T170000
DTSTAMP:20260424T112626
CREATED:20250923T112152Z
LAST-MODIFIED:20250923T112152Z
UID:12143-1759161600-1759165200@www.torsten-leveringhaus.de
SUMMARY:EAID Veranstaltung zu Palantir&Co
DESCRIPTION:Torsten Leveringhaus nimmt an der Online-Veranstaltung der EAID teil\, bei der Prof. Dr. Dennis-Kenji Kipker\, Professor für IT-Sicherheitsrecht an der Hochschule Bremen\, Wissenschaftlicher Direktor des cyberintelligence.institute in Frankfurt am Main und Vorstandsmitglied der EAID\, über die mit der Einführung und Nutzung der Palantir-Software verbundenen rechtlichen und rechtspolitischen Fragen spricht. Die Diskussion wird moderiert von Dr. Jörg Pohle\,  Alexander von Humboldt Institut für Internet und Gesellschaft und EAID-Vorstandsmitglied.
URL:https://www.torsten-leveringhaus.de/event/eaid-veranstaltung-zu-palantirco/
LOCATION:Online-Konferenz
CATEGORIES:Bündnis 90 / Die GRÜNEN - Hessischer Landtag
ATTACH;FMTTYPE=:
END:VEVENT
BEGIN:VEVENT
DTSTART;TZID=Europe/Berlin:20250926T090000
DTEND;TZID=Europe/Berlin:20250926T103000
DTSTAMP:20260424T112626
CREATED:20250818T111728Z
LAST-MODIFIED:20250818T111728Z
UID:12092-1758877200-1758882600@www.torsten-leveringhaus.de
SUMMARY:Podiumsdiskussion an der Martin-Luther-Schule in Rimbach
DESCRIPTION:In Vertretung seiner Fraktionskollegin Hildegard Förster-Heldmann nimmt Torsten Leveringhaus an der Podiumsdiskussion an der Martin-Luther-Schule in Rimbach teil. Angesprochen werden die Themen \n\nMigration und Integration\nBildung\, Jugend & Gesellschaft\nInternationale Sicherheit\nWirtschaft & Klima
URL:https://www.torsten-leveringhaus.de/event/podiumsdiskussion-an-der-martin-luther-schule-in-rimbach/
LOCATION:Hessen
CATEGORIES:Bündnis 90 / Die GRÜNEN - Hessischer Landtag
ATTACH;FMTTYPE=:
END:VEVENT
END:VCALENDAR