BEGIN:VCALENDAR
VERSION:2.0
PRODID:-//Torsten Leveringhaus - ECPv6.0.11//NONSGML v1.0//EN
CALSCALE:GREGORIAN
METHOD:PUBLISH
X-WR-CALNAME:Torsten Leveringhaus
X-ORIGINAL-URL:https://www.torsten-leveringhaus.de
X-WR-CALDESC:Veranstaltungen für Torsten Leveringhaus
REFRESH-INTERVAL;VALUE=DURATION:PT1H
X-Robots-Tag:noindex
X-PUBLISHED-TTL:PT1H
BEGIN:VTIMEZONE
TZID:Europe/Berlin
BEGIN:DAYLIGHT
TZOFFSETFROM:+0100
TZOFFSETTO:+0200
TZNAME:CEST
DTSTART:20260329T010000
END:DAYLIGHT
BEGIN:STANDARD
TZOFFSETFROM:+0200
TZOFFSETTO:+0100
TZNAME:CET
DTSTART:20261025T010000
END:STANDARD
END:VTIMEZONE
BEGIN:VEVENT
DTSTART;VALUE=DATE:20260505
DTEND;VALUE=DATE:20260506
DTSTAMP:20260424T100302
CREATED:20260401T125838Z
LAST-MODIFIED:20260401T125838Z
UID:12531-1777939200-1778025599@www.torsten-leveringhaus.de
SUMMARY:Landesschulmeisterschaften MTB
DESCRIPTION:Torsten Leveringhaus besucht als Abgeordneter für den Landkreis Darmstadt-Dieburg und Mitglied der GRÜNEN Kreistagsfraktion Darmstadt-Dieburg die Landesschulmeisterschaften MTB im Bike Park Ober-Ramstadt. Ausrichter ist die Georg-Christoph-Lichtenberg Schule.
URL:https://www.torsten-leveringhaus.de/event/landesschulmeisterschaften-mtb-2/
LOCATION:Hessen
CATEGORIES:Bündnis 90 / Die GRÜNEN - Hessischer Landtag
ATTACH;FMTTYPE=:
END:VEVENT
BEGIN:VEVENT
DTSTART;TZID=Europe/Berlin:20260505T103000
DTEND;TZID=Europe/Berlin:20260505T140000
DTSTAMP:20260424T100302
CREATED:20260401T123959Z
LAST-MODIFIED:20260401T123959Z
UID:12519-1777977000-1777989600@www.torsten-leveringhaus.de
SUMMARY:Fraktionssitzung Grüne HLT
DESCRIPTION:Torsten Leveringhaus nimmt an den wöchentlich stattfindenden Fraktionssitzungen von Bündnis 90/DIE GRÜNEN im Hessischen Landtag als Sprecher des Ausschuss für Digitales\, Innovation und Datenschutz und Mitglied des Petitionsausschusses\, des Innenausschusses sowie des Rechtspolitischen Ausschusses teil.
URL:https://www.torsten-leveringhaus.de/event/fraktionssitzung-gruene-hlt-207/
LOCATION:Hessischer Landtag\, Schloßplatz 1-3\, Wiesbaden\, Hessen\, 65183\, Deutschland
CATEGORIES:Bündnis 90 / Die GRÜNEN - Hessischer Landtag
ATTACH;FMTTYPE=:
END:VEVENT
BEGIN:VEVENT
DTSTART;TZID=Europe/Berlin:20260505T140000
DTEND;TZID=Europe/Berlin:20260505T170000
DTSTAMP:20260424T100302
CREATED:20260401T130011Z
LAST-MODIFIED:20260401T130011Z
UID:12533-1777989600-1778000400@www.torsten-leveringhaus.de
SUMMARY:Richterwahlausschuss
DESCRIPTION:Torsten Leveringhaus nimmt als Abgeordneter von Bündnis 90/DIE GRÜNEN im Hessischen Landtag an den Sitzungen des Richterwahlausschusses teil.
URL:https://www.torsten-leveringhaus.de/event/richterwahlausschuss-22/
LOCATION:Hessischer Landtag\, Schloßplatz 1-3\, Wiesbaden\, Hessen\, 65183\, Deutschland
CATEGORIES:Bündnis 90 / Die GRÜNEN - Hessischer Landtag
ATTACH;FMTTYPE=:
END:VEVENT
END:VCALENDAR